BEGIN:VCALENDAR
VERSION:2.0
PRODID:-//Fort Ashby Public Library - ECPv6.15.20//NONSGML v1.0//EN
CALSCALE:GREGORIAN
METHOD:PUBLISH
X-WR-CALNAME:Fort Ashby Public Library
X-ORIGINAL-URL:https://fortashby.lib.wv.us
X-WR-CALDESC:Events for Fort Ashby Public Library
REFRESH-INTERVAL;VALUE=DURATION:PT1H
X-Robots-Tag:noindex
X-PUBLISHED-TTL:PT1H
BEGIN:VTIMEZONE
TZID:America/New_York
BEGIN:DAYLIGHT
TZOFFSETFROM:-0500
TZOFFSETTO:-0400
TZNAME:EDT
DTSTART:20240310T070000
END:DAYLIGHT
BEGIN:STANDARD
TZOFFSETFROM:-0400
TZOFFSETTO:-0500
TZNAME:EST
DTSTART:20241103T060000
END:STANDARD
BEGIN:DAYLIGHT
TZOFFSETFROM:-0500
TZOFFSETTO:-0400
TZNAME:EDT
DTSTART:20250309T070000
END:DAYLIGHT
BEGIN:STANDARD
TZOFFSETFROM:-0400
TZOFFSETTO:-0500
TZNAME:EST
DTSTART:20251102T060000
END:STANDARD
BEGIN:DAYLIGHT
TZOFFSETFROM:-0500
TZOFFSETTO:-0400
TZNAME:EDT
DTSTART:20260308T070000
END:DAYLIGHT
BEGIN:STANDARD
TZOFFSETFROM:-0400
TZOFFSETTO:-0500
TZNAME:EST
DTSTART:20261101T060000
END:STANDARD
END:VTIMEZONE
BEGIN:VEVENT
DTSTART;TZID=America/New_York:20250603T140000
DTEND;TZID=America/New_York:20250603T150000
DTSTAMP:20260423T071655
CREATED:20250527T190856Z
LAST-MODIFIED:20250527T190856Z
UID:4277-1748959200-1748962800@fortashby.lib.wv.us
SUMMARY:Kid's Summer Reading Activity- Marble Painting
DESCRIPTION:Paint with Marbles
URL:https://fortashby.lib.wv.us/event/kids-summer-reading-activity-marble-painting/
CATEGORIES:Childrens Programs
END:VEVENT
BEGIN:VEVENT
DTSTART;TZID=America/New_York:20250603T140000
DTEND;TZID=America/New_York:20250603T150000
DTSTAMP:20260423T071655
CREATED:20250527T191300Z
LAST-MODIFIED:20250527T191300Z
UID:4281-1748959200-1748962800@fortashby.lib.wv.us
SUMMARY:Teen and Adult Craft Night- Beach Painting
DESCRIPTION:Create a relaxing painting on canvas with some 3D components you may find along a walk on the beach.
URL:https://fortashby.lib.wv.us/event/teen-and-adult-craft-night-beach-painting/
CATEGORIES:Adult Program
ATTACH;FMTTYPE=image/jpeg:https://lib-kmcpl.wvnet.edu/fort-ashby/wp-content/uploads/sites/5/2025/05/CSLP_2025_HandPainting-scaled.jpg
END:VEVENT
BEGIN:VEVENT
DTSTART;TZID=America/New_York:20250604T110000
DTEND;TZID=America/New_York:20250604T120000
DTSTAMP:20260423T071655
CREATED:20250527T191928Z
LAST-MODIFIED:20250527T191928Z
UID:4285-1749034800-1749038400@fortashby.lib.wv.us
SUMMARY:Toddler Time- Bubble Painting
DESCRIPTION:Story\, craft and snack- Hurray!!!
URL:https://fortashby.lib.wv.us/event/toddler-time-bubble-painting/
CATEGORIES:Childrens Programs
ATTACH;FMTTYPE=image/jpeg:https://lib-kmcpl.wvnet.edu/fort-ashby/wp-content/uploads/sites/5/2025/04/CSLP_2025_PaletteWithTitle.jpg
END:VEVENT
BEGIN:VEVENT
DTSTART;TZID=America/New_York:20250610T140000
DTEND;TZID=America/New_York:20250610T150000
DTSTAMP:20260423T071655
CREATED:20250527T191052Z
LAST-MODIFIED:20250527T191052Z
UID:4279-1749564000-1749567600@fortashby.lib.wv.us
SUMMARY:Kid's Summer Reading Activity- Yarn Art
DESCRIPTION:Stretch your imagination and creativity by creating a picture with yarn.
URL:https://fortashby.lib.wv.us/event/kids-summer-reading-activity-yarn-art/
CATEGORIES:Childrens Programs
ATTACH;FMTTYPE=image/jpeg:https://lib-kmcpl.wvnet.edu/fort-ashby/wp-content/uploads/sites/5/2025/05/CSLP_2025_InkRoller.jpg
END:VEVENT
BEGIN:VEVENT
DTSTART;TZID=America/New_York:20250610T170000
DTEND;TZID=America/New_York:20250610T183000
DTSTAMP:20260423T071655
CREATED:20250527T191729Z
LAST-MODIFIED:20250527T191729Z
UID:4283-1749574800-1749580200@fortashby.lib.wv.us
SUMMARY:Teen & Adult Craft Night- Bookmark (Woven or Crochet)
DESCRIPTION:Practice a simple crochet pattern or try your hand at weaving.
URL:https://fortashby.lib.wv.us/event/teen-adult-craft-night-bookmark-woven-or-crochet/
CATEGORIES:Adult Program
ATTACH;FMTTYPE=image/jpeg:https://lib-kmcpl.wvnet.edu/fort-ashby/wp-content/uploads/sites/5/2025/05/CSLP_2025_HandPainting-scaled.jpg
END:VEVENT
BEGIN:VEVENT
DTSTART;TZID=America/New_York:20250611T110000
DTEND;TZID=America/New_York:20250611T120000
DTSTAMP:20260423T071655
CREATED:20250527T192029Z
LAST-MODIFIED:20250527T192029Z
UID:4287-1749639600-1749643200@fortashby.lib.wv.us
SUMMARY:Toddler Time- Yarn Letters
DESCRIPTION:Story\, craft and snack- Hurray!!!
URL:https://fortashby.lib.wv.us/event/toddler-time-yarn-letters/
CATEGORIES:Childrens Programs
ATTACH;FMTTYPE=image/jpeg:https://lib-kmcpl.wvnet.edu/fort-ashby/wp-content/uploads/sites/5/2025/04/CSLP_2025_PaletteWithTitle.jpg
END:VEVENT
BEGIN:VEVENT
DTSTART;TZID=America/New_York:20250617T140000
DTEND;TZID=America/New_York:20250617T150000
DTSTAMP:20260423T071655
CREATED:20250527T190616Z
LAST-MODIFIED:20250527T190616Z
UID:4270-1750168800-1750172400@fortashby.lib.wv.us
SUMMARY:Kid's Summer Reading Activity- Bad Art Night
DESCRIPTION:Bring your creativity and sense of fun! Bad Art Night is inspired by the show “Nailed It” Choose from a variety of famous works of art and see how close you can come to recreating it.
URL:https://fortashby.lib.wv.us/event/kids-summer-reading-activity-bad-art-night/
CATEGORIES:Childrens Programs
ATTACH;FMTTYPE=image/jpeg:https://lib-kmcpl.wvnet.edu/fort-ashby/wp-content/uploads/sites/5/2025/05/CSLP_2025_InkRoller.jpg
END:VEVENT
BEGIN:VEVENT
DTSTART;TZID=America/New_York:20250617T170000
DTEND;TZID=America/New_York:20250617T183000
DTSTAMP:20260423T071655
CREATED:20250527T190729Z
LAST-MODIFIED:20250527T190729Z
UID:4274-1750179600-1750185000@fortashby.lib.wv.us
SUMMARY:Teen & Adult Craft- Bad Art Night
DESCRIPTION:Bring your creativity and sense of fun! Bad Art Night is inspired by the show “Nailed It” Choose from a variety of famous works of art and see how close you can come to recreating it.
URL:https://fortashby.lib.wv.us/event/teen-adult-craft-bad-art-night/
CATEGORIES:Adult Program
ATTACH;FMTTYPE=image/jpeg:https://lib-kmcpl.wvnet.edu/fort-ashby/wp-content/uploads/sites/5/2025/05/CSLP_2025_HandPainting-scaled.jpg
END:VEVENT
BEGIN:VEVENT
DTSTART;TZID=America/New_York:20250618T110000
DTEND;TZID=America/New_York:20250618T150000
DTSTAMP:20260423T071655
CREATED:20250430T183102Z
LAST-MODIFIED:20250430T183103Z
UID:4258-1750244400-1750258800@fortashby.lib.wv.us
SUMMARY:Summer Reading Kickoff Party
DESCRIPTION:
URL:https://fortashby.lib.wv.us/event/summer-reading-kickoff-party-2/
LOCATION:Camp Minco\, 65 Camp Minco Ln\, Keyser\, WV\, 26726\, United States
CATEGORIES:Summer Reading Program
ATTACH;FMTTYPE=image/jpeg:https://lib-kmcpl.wvnet.edu/fort-ashby/wp-content/uploads/sites/5/2025/04/CSLP_2025_PaletteWithTitle.jpg
END:VEVENT
END:VCALENDAR