BEGIN:VCALENDAR
VERSION:2.0
PRODID:-//Fort Ashby Public Library - ECPv6.15.20//NONSGML v1.0//EN
CALSCALE:GREGORIAN
METHOD:PUBLISH
X-ORIGINAL-URL:https://fortashby.lib.wv.us
X-WR-CALDESC:Events for Fort Ashby Public Library
REFRESH-INTERVAL;VALUE=DURATION:PT1H
X-Robots-Tag:noindex
X-PUBLISHED-TTL:PT1H
BEGIN:VTIMEZONE
TZID:America/New_York
BEGIN:DAYLIGHT
TZOFFSETFROM:-0500
TZOFFSETTO:-0400
TZNAME:EDT
DTSTART:20240310T070000
END:DAYLIGHT
BEGIN:STANDARD
TZOFFSETFROM:-0400
TZOFFSETTO:-0500
TZNAME:EST
DTSTART:20241103T060000
END:STANDARD
BEGIN:DAYLIGHT
TZOFFSETFROM:-0500
TZOFFSETTO:-0400
TZNAME:EDT
DTSTART:20250309T070000
END:DAYLIGHT
BEGIN:STANDARD
TZOFFSETFROM:-0400
TZOFFSETTO:-0500
TZNAME:EST
DTSTART:20251102T060000
END:STANDARD
BEGIN:DAYLIGHT
TZOFFSETFROM:-0500
TZOFFSETTO:-0400
TZNAME:EDT
DTSTART:20260308T070000
END:DAYLIGHT
BEGIN:STANDARD
TZOFFSETFROM:-0400
TZOFFSETTO:-0500
TZNAME:EST
DTSTART:20261101T060000
END:STANDARD
END:VTIMEZONE
BEGIN:VEVENT
DTSTART;TZID=America/New_York:20250408T170000
DTEND;TZID=America/New_York:20250408T183000
DTSTAMP:20260423T102322
CREATED:20240725T140630Z
LAST-MODIFIED:20250312T180338Z
UID:4146-1744131600-1744137000@fortashby.lib.wv.us
SUMMARY:Adult/Teen Craft Night
DESCRIPTION:Clothes Hanger Butterfly Outdoor Light
URL:https://fortashby.lib.wv.us/event/adult-teen-craft-night/
CATEGORIES:Adult Program
ATTACH;FMTTYPE=image/jpeg:https://lib-kmcpl.wvnet.edu/fort-ashby/wp-content/uploads/sites/5/2024/09/September-Adult-Craft-Night.jpg
END:VEVENT
BEGIN:VEVENT
DTSTART;TZID=America/New_York:20250415T130000
DTEND;TZID=America/New_York:20250415T140000
DTSTAMP:20260423T102322
CREATED:20250225T164507Z
LAST-MODIFIED:20250225T164507Z
UID:4240-1744722000-1744725600@fortashby.lib.wv.us
SUMMARY:Home School Group
DESCRIPTION:Final Meeting
URL:https://fortashby.lib.wv.us/event/home-school-group-9/
CATEGORIES:Childrens Programs
ATTACH;FMTTYPE=image/jpeg:https://lib-kmcpl.wvnet.edu/fort-ashby/wp-content/uploads/sites/5/2023/09/istockphoto-1354802829-612x612-1.jpg
END:VEVENT
BEGIN:VEVENT
DTSTART;VALUE=DATE:20250417
DTEND;VALUE=DATE:20250418
DTSTAMP:20260423T102322
CREATED:20250225T165500Z
LAST-MODIFIED:20250225T165500Z
UID:4243-1744848000-1744934399@fortashby.lib.wv.us
SUMMARY:Library Closed for Staff Meeting
DESCRIPTION:
URL:https://fortashby.lib.wv.us/event/library-closed-for-staff-meeting/
END:VEVENT
END:VCALENDAR