BEGIN:VCALENDAR
VERSION:2.0
PRODID:-//Fort Ashby Public Library - ECPv6.15.20//NONSGML v1.0//EN
CALSCALE:GREGORIAN
METHOD:PUBLISH
X-WR-CALNAME:Fort Ashby Public Library
X-ORIGINAL-URL:https://fortashby.lib.wv.us
X-WR-CALDESC:Events for Fort Ashby Public Library
REFRESH-INTERVAL;VALUE=DURATION:PT1H
X-Robots-Tag:noindex
X-PUBLISHED-TTL:PT1H
BEGIN:VTIMEZONE
TZID:America/New_York
BEGIN:DAYLIGHT
TZOFFSETFROM:-0500
TZOFFSETTO:-0400
TZNAME:EDT
DTSTART:20240310T070000
END:DAYLIGHT
BEGIN:STANDARD
TZOFFSETFROM:-0400
TZOFFSETTO:-0500
TZNAME:EST
DTSTART:20241103T060000
END:STANDARD
BEGIN:DAYLIGHT
TZOFFSETFROM:-0500
TZOFFSETTO:-0400
TZNAME:EDT
DTSTART:20250309T070000
END:DAYLIGHT
BEGIN:STANDARD
TZOFFSETFROM:-0400
TZOFFSETTO:-0500
TZNAME:EST
DTSTART:20251102T060000
END:STANDARD
BEGIN:DAYLIGHT
TZOFFSETFROM:-0500
TZOFFSETTO:-0400
TZNAME:EDT
DTSTART:20260308T070000
END:DAYLIGHT
BEGIN:STANDARD
TZOFFSETFROM:-0400
TZOFFSETTO:-0500
TZNAME:EST
DTSTART:20261101T060000
END:STANDARD
END:VTIMEZONE
BEGIN:VEVENT
DTSTART;TZID=America/New_York:20250210T100000
DTEND;TZID=America/New_York:20250210T113000
DTSTAMP:20260423T132502
CREATED:20250203T192645Z
LAST-MODIFIED:20250203T192646Z
UID:4227-1739181600-1739187000@fortashby.lib.wv.us
SUMMARY:Fort Ashby Reader's Book Club
DESCRIPTION:
URL:https://fortashby.lib.wv.us/event/fort-ashby-readers-book-club-5/
CATEGORIES:Adult Program
END:VEVENT
BEGIN:VEVENT
DTSTART;VALUE=DATE:20250217
DTEND;VALUE=DATE:20250218
DTSTAMP:20260423T132502
CREATED:20250203T191755Z
LAST-MODIFIED:20250203T191836Z
UID:4219-1739750400-1739836799@fortashby.lib.wv.us
SUMMARY:Library Closed for Presidents Day
DESCRIPTION:
URL:https://fortashby.lib.wv.us/event/library-closed-for-presidents-day/
ATTACH;FMTTYPE=image/png:https://lib-kmcpl.wvnet.edu/fort-ashby/wp-content/uploads/sites/5/2025/02/patriotic-pup.png
END:VEVENT
END:VCALENDAR