BEGIN:VCALENDAR
VERSION:2.0
PRODID:-//Fort Ashby Public Library - ECPv6.15.20//NONSGML v1.0//EN
CALSCALE:GREGORIAN
METHOD:PUBLISH
X-WR-CALNAME:Fort Ashby Public Library
X-ORIGINAL-URL:https://fortashby.lib.wv.us
X-WR-CALDESC:Events for Fort Ashby Public Library
REFRESH-INTERVAL;VALUE=DURATION:PT1H
X-Robots-Tag:noindex
X-PUBLISHED-TTL:PT1H
BEGIN:VTIMEZONE
TZID:America/New_York
BEGIN:DAYLIGHT
TZOFFSETFROM:-0500
TZOFFSETTO:-0400
TZNAME:EDT
DTSTART:20230312T070000
END:DAYLIGHT
BEGIN:STANDARD
TZOFFSETFROM:-0400
TZOFFSETTO:-0500
TZNAME:EST
DTSTART:20231105T060000
END:STANDARD
BEGIN:DAYLIGHT
TZOFFSETFROM:-0500
TZOFFSETTO:-0400
TZNAME:EDT
DTSTART:20240310T070000
END:DAYLIGHT
BEGIN:STANDARD
TZOFFSETFROM:-0400
TZOFFSETTO:-0500
TZNAME:EST
DTSTART:20241103T060000
END:STANDARD
BEGIN:DAYLIGHT
TZOFFSETFROM:-0500
TZOFFSETTO:-0400
TZNAME:EDT
DTSTART:20250309T070000
END:DAYLIGHT
BEGIN:STANDARD
TZOFFSETFROM:-0400
TZOFFSETTO:-0500
TZNAME:EST
DTSTART:20251102T060000
END:STANDARD
END:VTIMEZONE
BEGIN:VEVENT
DTSTART;TZID=America/New_York:20241008T163000
DTEND;TZID=America/New_York:20241008T173000
DTSTAMP:20260423T191152
CREATED:20240925T135308Z
LAST-MODIFIED:20240925T135308Z
UID:4198-1728405000-1728408600@fortashby.lib.wv.us
SUMMARY:Kids Craft Night!
DESCRIPTION:
URL:https://fortashby.lib.wv.us/event/kids-craft-night-2/
CATEGORIES:Childrens Programs
ATTACH;FMTTYPE=image/jpeg:https://lib-kmcpl.wvnet.edu/fort-ashby/wp-content/uploads/sites/5/2024/09/Kids-Craft-Night1.jpg
END:VEVENT
BEGIN:VEVENT
DTSTART;TZID=America/New_York:20241014T100000
DTEND;TZID=America/New_York:20241014T110000
DTSTAMP:20260423T191152
CREATED:20240925T135510Z
LAST-MODIFIED:20240925T135510Z
UID:4200-1728900000-1728903600@fortashby.lib.wv.us
SUMMARY:Fort Ashby Readers Book Club
DESCRIPTION:Discussing Stephen Kings “Elevation”
URL:https://fortashby.lib.wv.us/event/fort-ashby-readers-book-club-4/
CATEGORIES:Adult Program
END:VEVENT
END:VCALENDAR