BEGIN:VCALENDAR
VERSION:2.0
PRODID:-//Fort Ashby Public Library - ECPv6.15.20//NONSGML v1.0//EN
CALSCALE:GREGORIAN
METHOD:PUBLISH
X-ORIGINAL-URL:https://fortashby.lib.wv.us
X-WR-CALDESC:Events for Fort Ashby Public Library
REFRESH-INTERVAL;VALUE=DURATION:PT1H
X-Robots-Tag:noindex
X-PUBLISHED-TTL:PT1H
BEGIN:VTIMEZONE
TZID:America/New_York
BEGIN:DAYLIGHT
TZOFFSETFROM:-0500
TZOFFSETTO:-0400
TZNAME:EDT
DTSTART:20230312T070000
END:DAYLIGHT
BEGIN:STANDARD
TZOFFSETFROM:-0400
TZOFFSETTO:-0500
TZNAME:EST
DTSTART:20231105T060000
END:STANDARD
BEGIN:DAYLIGHT
TZOFFSETFROM:-0500
TZOFFSETTO:-0400
TZNAME:EDT
DTSTART:20240310T070000
END:DAYLIGHT
BEGIN:STANDARD
TZOFFSETFROM:-0400
TZOFFSETTO:-0500
TZNAME:EST
DTSTART:20241103T060000
END:STANDARD
BEGIN:DAYLIGHT
TZOFFSETFROM:-0500
TZOFFSETTO:-0400
TZNAME:EDT
DTSTART:20250309T070000
END:DAYLIGHT
BEGIN:STANDARD
TZOFFSETFROM:-0400
TZOFFSETTO:-0500
TZNAME:EST
DTSTART:20251102T060000
END:STANDARD
END:VTIMEZONE
BEGIN:VEVENT
DTSTART;VALUE=DATE:20240429
DTEND;VALUE=DATE:20240509
DTSTAMP:20260424T165807
CREATED:20230208T161506Z
LAST-MODIFIED:20240409T162118Z
UID:3837-1714348800-1715212799@fortashby.lib.wv.us
SUMMARY:Book & DVD Sale
DESCRIPTION:Fort Ashby public Library \nBook Sale \nStarting 9 am Monday\, April 29th and running through May 8th or while supplies last.
URL:https://fortashby.lib.wv.us/event/book-sale/
ATTACH;FMTTYPE=image/jpeg:https://lib-kmcpl.wvnet.edu/fort-ashby/wp-content/uploads/sites/5/2023/02/book-sale.jpg
END:VEVENT
END:VCALENDAR