BEGIN:VCALENDAR
VERSION:2.0
PRODID:-//Fort Ashby Public Library - ECPv6.15.20//NONSGML v1.0//EN
CALSCALE:GREGORIAN
METHOD:PUBLISH
X-WR-CALNAME:Fort Ashby Public Library
X-ORIGINAL-URL:https://fortashby.lib.wv.us
X-WR-CALDESC:Events for Fort Ashby Public Library
REFRESH-INTERVAL;VALUE=DURATION:PT1H
X-Robots-Tag:noindex
X-PUBLISHED-TTL:PT1H
BEGIN:VTIMEZONE
TZID:America/New_York
BEGIN:DAYLIGHT
TZOFFSETFROM:-0500
TZOFFSETTO:-0400
TZNAME:EDT
DTSTART:20240310T070000
END:DAYLIGHT
BEGIN:STANDARD
TZOFFSETFROM:-0400
TZOFFSETTO:-0500
TZNAME:EST
DTSTART:20241103T060000
END:STANDARD
BEGIN:DAYLIGHT
TZOFFSETFROM:-0500
TZOFFSETTO:-0400
TZNAME:EDT
DTSTART:20250309T070000
END:DAYLIGHT
BEGIN:STANDARD
TZOFFSETFROM:-0400
TZOFFSETTO:-0500
TZNAME:EST
DTSTART:20251102T060000
END:STANDARD
BEGIN:DAYLIGHT
TZOFFSETFROM:-0500
TZOFFSETTO:-0400
TZNAME:EDT
DTSTART:20260308T070000
END:DAYLIGHT
BEGIN:STANDARD
TZOFFSETFROM:-0400
TZOFFSETTO:-0500
TZNAME:EST
DTSTART:20261101T060000
END:STANDARD
END:VTIMEZONE
BEGIN:VEVENT
DTSTART;TZID=America/New_York:20250708T140000
DTEND;TZID=America/New_York:20250708T150000
DTSTAMP:20260419T235135
CREATED:20250702T173917Z
LAST-MODIFIED:20250702T173917Z
UID:4293-1751983200-1751986800@fortashby.lib.wv.us
SUMMARY:Kid's Summer Reading Activity- DIY Comic Book
DESCRIPTION:
URL:https://fortashby.lib.wv.us/event/kids-summer-reading-activity-diy-comic-book/
CATEGORIES:Childrens Programs,Summer Reading Program
ATTACH;FMTTYPE=image/jpeg:https://lib-kmcpl.wvnet.edu/fort-ashby/wp-content/uploads/sites/5/2025/05/CSLP_2025_HandPainting-scaled.jpg
END:VEVENT
BEGIN:VEVENT
DTSTART;TZID=America/New_York:20250708T170000
DTEND;TZID=America/New_York:20250708T183000
DTSTAMP:20260419T235135
CREATED:20250702T174246Z
LAST-MODIFIED:20250702T174246Z
UID:4299-1751994000-1751999400@fortashby.lib.wv.us
SUMMARY:Teen & Adult Craft Night- No Sew Pillow
DESCRIPTION:
URL:https://fortashby.lib.wv.us/event/teen-adult-craft-night-no-sew-pillow/
CATEGORIES:Adult Program,Summer Reading Program
END:VEVENT
BEGIN:VEVENT
DTSTART;TZID=America/New_York:20250709T110000
DTEND;TZID=America/New_York:20250709T120000
DTSTAMP:20260419T235135
CREATED:20250702T174741Z
LAST-MODIFIED:20250702T174741Z
UID:4305-1752058800-1752062400@fortashby.lib.wv.us
SUMMARY:Toddler Time- Super Hero Capes
DESCRIPTION:
URL:https://fortashby.lib.wv.us/event/toddler-time-super-hero-capes/
CATEGORIES:Childrens Programs,Summer Reading Program
ATTACH;FMTTYPE=image/jpeg:https://lib-kmcpl.wvnet.edu/fort-ashby/wp-content/uploads/sites/5/2025/04/CSLP_2025_PaletteWithTitle.jpg
END:VEVENT
BEGIN:VEVENT
DTSTART;TZID=America/New_York:20250715T140000
DTEND;TZID=America/New_York:20250715T150000
DTSTAMP:20260419T235135
CREATED:20250702T174004Z
LAST-MODIFIED:20250702T174004Z
UID:4295-1752588000-1752591600@fortashby.lib.wv.us
SUMMARY:Kid's Summer Reading Activity- Beaded Suncatcher
DESCRIPTION:
URL:https://fortashby.lib.wv.us/event/kids-summer-reading-activity-beaded-suncatcher/
CATEGORIES:Childrens Programs,Summer Reading Program
ATTACH;FMTTYPE=image/jpeg:https://lib-kmcpl.wvnet.edu/fort-ashby/wp-content/uploads/sites/5/2025/05/CSLP_2025_HandPainting-scaled.jpg
END:VEVENT
BEGIN:VEVENT
DTSTART;TZID=America/New_York:20250715T170000
DTEND;TZID=America/New_York:20250715T183000
DTSTAMP:20260419T235135
CREATED:20250702T174342Z
LAST-MODIFIED:20250702T174342Z
UID:4301-1752598800-1752604200@fortashby.lib.wv.us
SUMMARY:Teen & Adult Craft Night- Beaded Planter/Candle Holder
DESCRIPTION:
URL:https://fortashby.lib.wv.us/event/teen-adult-craft-night-beaded-planter-candle-holder/
CATEGORIES:Adult Program,Summer Reading Program
END:VEVENT
BEGIN:VEVENT
DTSTART;TZID=America/New_York:20250716T110000
DTEND;TZID=America/New_York:20250716T120000
DTSTAMP:20260419T235135
CREATED:20250702T174837Z
LAST-MODIFIED:20250702T174837Z
UID:4307-1752663600-1752667200@fortashby.lib.wv.us
SUMMARY:Toddler Time- Mess Free Color Mixing
DESCRIPTION:
URL:https://fortashby.lib.wv.us/event/toddler-time-mess-free-color-mixing/
CATEGORIES:Childrens Programs,Summer Reading Program
ATTACH;FMTTYPE=image/jpeg:https://lib-kmcpl.wvnet.edu/fort-ashby/wp-content/uploads/sites/5/2025/04/CSLP_2025_PaletteWithTitle.jpg
END:VEVENT
BEGIN:VEVENT
DTSTART;TZID=America/New_York:20250722T140000
DTEND;TZID=America/New_York:20250722T150000
DTSTAMP:20260419T235135
CREATED:20250702T174059Z
LAST-MODIFIED:20250702T174059Z
UID:4297-1753192800-1753196400@fortashby.lib.wv.us
SUMMARY:Kid's Summer Reading Activity- Friendship Bracelets
DESCRIPTION:
URL:https://fortashby.lib.wv.us/event/kids-summer-reading-activity-friendship-bracelets/
CATEGORIES:Childrens Programs,Summer Reading Program
ATTACH;FMTTYPE=image/jpeg:https://lib-kmcpl.wvnet.edu/fort-ashby/wp-content/uploads/sites/5/2025/05/CSLP_2025_HandPainting-scaled.jpg
END:VEVENT
BEGIN:VEVENT
DTSTART;TZID=America/New_York:20250722T170000
DTEND;TZID=America/New_York:20250722T183000
DTSTAMP:20260419T235135
CREATED:20250702T174453Z
LAST-MODIFIED:20250702T174453Z
UID:4303-1753203600-1753209000@fortashby.lib.wv.us
SUMMARY:Teen & Adult Craft Night- "Darn It" intro to darning
DESCRIPTION:
URL:https://fortashby.lib.wv.us/event/teen-adult-craft-night-darn-it-intro-to-darning/
CATEGORIES:Adult Program,Summer Reading Program
END:VEVENT
BEGIN:VEVENT
DTSTART;TZID=America/New_York:20250723T110000
DTEND;TZID=America/New_York:20250723T120000
DTSTAMP:20260419T235135
CREATED:20250702T174941Z
LAST-MODIFIED:20250702T174941Z
UID:4309-1753268400-1753272000@fortashby.lib.wv.us
SUMMARY:Toddler Time- Kaleidoscope Fun
DESCRIPTION:
URL:https://fortashby.lib.wv.us/event/toddler-time-kaleidoscope-fun/
CATEGORIES:Childrens Programs,Summer Reading Program
ATTACH;FMTTYPE=image/jpeg:https://lib-kmcpl.wvnet.edu/fort-ashby/wp-content/uploads/sites/5/2025/04/CSLP_2025_PaletteWithTitle.jpg
END:VEVENT
END:VCALENDAR