BEGIN:VCALENDAR
VERSION:2.0
PRODID:-//Fort Ashby Public Library - ECPv6.15.20//NONSGML v1.0//EN
CALSCALE:GREGORIAN
METHOD:PUBLISH
X-ORIGINAL-URL:https://fortashby.lib.wv.us
X-WR-CALDESC:Events for Fort Ashby Public Library
REFRESH-INTERVAL;VALUE=DURATION:PT1H
X-Robots-Tag:noindex
X-PUBLISHED-TTL:PT1H
BEGIN:VTIMEZONE
TZID:America/New_York
BEGIN:DAYLIGHT
TZOFFSETFROM:-0500
TZOFFSETTO:-0400
TZNAME:EDT
DTSTART:20220313T070000
END:DAYLIGHT
BEGIN:STANDARD
TZOFFSETFROM:-0400
TZOFFSETTO:-0500
TZNAME:EST
DTSTART:20221106T060000
END:STANDARD
BEGIN:DAYLIGHT
TZOFFSETFROM:-0500
TZOFFSETTO:-0400
TZNAME:EDT
DTSTART:20230312T070000
END:DAYLIGHT
BEGIN:STANDARD
TZOFFSETFROM:-0400
TZOFFSETTO:-0500
TZNAME:EST
DTSTART:20231105T060000
END:STANDARD
BEGIN:DAYLIGHT
TZOFFSETFROM:-0500
TZOFFSETTO:-0400
TZNAME:EDT
DTSTART:20240310T070000
END:DAYLIGHT
BEGIN:STANDARD
TZOFFSETFROM:-0400
TZOFFSETTO:-0500
TZNAME:EST
DTSTART:20241103T060000
END:STANDARD
END:VTIMEZONE
BEGIN:VEVENT
DTSTART;TZID=America/New_York:20231010T160000
DTEND;TZID=America/New_York:20231010T170000
DTSTAMP:20260420T082032
CREATED:20221005T163154Z
LAST-MODIFIED:20230824T165736Z
UID:3724-1696953600-1696957200@fortashby.lib.wv.us
SUMMARY:STEAM Club
DESCRIPTION:Join our Curious Minds STEAM Club \nNo need to sign up\, open to all kids 1st grade and above. \n(Younger are welcome but may need assistance with activities) \nCheck our Facebook page for updates.
URL:https://fortashby.lib.wv.us/event/steam-club/
CATEGORIES:Childrens Programs
ATTACH;FMTTYPE=image/jpeg:https://lib-kmcpl.wvnet.edu/fort-ashby/wp-content/uploads/sites/5/2022/09/STEAM.jpg
END:VEVENT
END:VCALENDAR